BEGIN:VCALENDAR
VERSION:2.0
PRODID:-//Welbeck Archers - ECPv6.8.1//NONSGML v1.0//EN
CALSCALE:GREGORIAN
METHOD:PUBLISH
X-WR-CALNAME:Welbeck Archers
X-ORIGINAL-URL:https://www.welbeckarchers.co.uk
X-WR-CALDESC:Events for Welbeck Archers
REFRESH-INTERVAL;VALUE=DURATION:PT1H
X-Robots-Tag:noindex
X-PUBLISHED-TTL:PT1H
BEGIN:VTIMEZONE
TZID:UTC
BEGIN:STANDARD
TZOFFSETFROM:+0000
TZOFFSETTO:+0000
TZNAME:UTC
DTSTART:20240101T000000
END:STANDARD
END:VTIMEZONE
BEGIN:VEVENT
DTSTART;VALUE=DATE:20250720
DTEND;VALUE=DATE:20250721
DTSTAMP:20260421T220558
CREATED:20250320T114945Z
LAST-MODIFIED:20250320T114945Z
UID:1444-1752969600-1753055999@www.welbeckarchers.co.uk
SUMMARY:WRS 1440 and Metric Rounds
DESCRIPTION:Entry form can be found here
URL:https://www.welbeckarchers.co.uk/event/wrs-1440-and-metric-rounds/
LOCATION:Bothamsall
CATEGORIES:Open Competitions
END:VEVENT
BEGIN:VEVENT
DTSTART;VALUE=DATE:20250526
DTEND;VALUE=DATE:20250527
DTSTAMP:20260421T220558
CREATED:20250220T154915Z
LAST-MODIFIED:20250220T154945Z
UID:1426-1748217600-1748303999@www.welbeckarchers.co.uk
SUMMARY:WRS Double WA70/60/50
DESCRIPTION:
URL:https://www.welbeckarchers.co.uk/event/wrs-double-wa70-60-50/
LOCATION:Bothamsall
CATEGORIES:Open Competitions
END:VEVENT
BEGIN:VEVENT
DTSTART;VALUE=DATE:20250525
DTEND;VALUE=DATE:20250526
DTSTAMP:20260421T220558
CREATED:20250220T143811Z
LAST-MODIFIED:20250220T155033Z
UID:1423-1748131200-1748217599@www.welbeckarchers.co.uk
SUMMARY:UKRS York/Hereford/Bristol Rounds
DESCRIPTION:Including Rose Awards
URL:https://www.welbeckarchers.co.uk/event/ukrs-york-hereford-bristol-rounds/
LOCATION:Bothamsall
CATEGORIES:Open Competitions
END:VEVENT
BEGIN:VEVENT
DTSTART;TZID=UTC:20250518T110000
DTEND;TZID=UTC:20250518T160000
DTSTAMP:20260421T220558
CREATED:20250320T115129Z
LAST-MODIFIED:20250320T115129Z
UID:1446-1747566000-1747584000@www.welbeckarchers.co.uk
SUMMARY:Start Archery Week
DESCRIPTION:For more information see here 
URL:https://www.welbeckarchers.co.uk/event/start-archery-week/
LOCATION:Bothamsall
END:VEVENT
BEGIN:VEVENT
DTSTART;TZID=UTC:20241217T190000
DTEND;TZID=UTC:20241217T220000
DTSTAMP:20260421T220558
CREATED:20241114T141659Z
LAST-MODIFIED:20241114T141659Z
UID:1362-1734462000-1734472800@www.welbeckarchers.co.uk
SUMMARY:Club Christmas Shoot
DESCRIPTION:🎄 Christmas Fun Shoot at Cuckney Cricket Club 🎯 \nJoin us for a festive\, fun-filled evening of archery at Cuckney Cricket Club! Celebrate the holiday season with some friendly competition and festive cheer. Whether you’re a seasoned archer or a first-timer\, everyone is welcome to take part in this light-hearted event. \nEvent Highlights: \n\nDate: Tuesday 17th December\nTime: 7pm\nLocation: Cuckney Cricket Club\nPrizes: Win exciting prizes!\nBuffet: Bring along your favorite festive dish for a delicious buffet after the shoot .\n\nImportant Notes: \n\nOnly one arrow is needed per participant (club bows will be provided\, no personal bows required).
URL:https://www.welbeckarchers.co.uk/event/club-christmas-shoot/
LOCATION:Cuckney Cricket Club\, United Kingdom
CATEGORIES:Club Only Competitions
END:VEVENT
BEGIN:VEVENT
DTSTART;TZID=UTC:20241213T190000
DTEND;TZID=UTC:20241213T230000
DTSTAMP:20260421T220558
CREATED:20241114T131436Z
LAST-MODIFIED:20241114T131436Z
UID:1360-1734116400-1734130800@www.welbeckarchers.co.uk
SUMMARY:Club Christmas Meal
DESCRIPTION:Christmas social event for all club members. \nTickets available from Chris H\, Trish or Tammie \n£25 per person. Hot and Cold Buffet \nPolish Bakery\, Worksop
URL:https://www.welbeckarchers.co.uk/event/club-christmas-meal/
END:VEVENT
BEGIN:VEVENT
DTSTART;TZID=UTC:20241209T193000
DTEND;TZID=UTC:20241209T210000
DTSTAMP:20260421T220558
CREATED:20241114T131032Z
LAST-MODIFIED:20241114T131032Z
UID:1358-1733772600-1733778000@www.welbeckarchers.co.uk
SUMMARY:Club Meeting
DESCRIPTION:Monthly meeting for club members
URL:https://www.welbeckarchers.co.uk/event/club-meeting/
LOCATION:KG Archery
CATEGORIES:Members Meetings
END:VEVENT
BEGIN:VEVENT
DTSTART;TZID=UTC:20241209T190000
DTEND;TZID=UTC:20241209T193000
DTSTAMP:20260421T220558
CREATED:20241114T130941Z
LAST-MODIFIED:20241114T131050Z
UID:1355-1733770800-1733772600@www.welbeckarchers.co.uk
SUMMARY:EGM
DESCRIPTION:EGM to vote in the new club constitution.
URL:https://www.welbeckarchers.co.uk/event/egm/
LOCATION:KG Archery
CATEGORIES:Members Meetings
END:VEVENT
BEGIN:VEVENT
DTSTART;TZID=UTC:20241119T190000
DTEND;TZID=UTC:20241119T220000
DTSTAMP:20260421T220558
CREATED:20241114T130109Z
LAST-MODIFIED:20241114T130109Z
UID:1349-1732042800-1732053600@www.welbeckarchers.co.uk
SUMMARY:Club Portsmouth
DESCRIPTION:Contact Carl for more information
URL:https://www.welbeckarchers.co.uk/event/club-portsmouth/
LOCATION:Cuckney Cricket Club\, United Kingdom
CATEGORIES:Club Only Competitions,Competitions
END:VEVENT
END:VCALENDAR